BEGIN:VCALENDAR
VERSION:2.0
PRODID:icalendar-ruby
CALSCALE:GREGORIAN
METHOD:PUBLISH
BEGIN:VEVENT
DTSTAMP:20260422T161533Z
UID:359-361024@c7church.com
DTSTART:20260521T180000Z
DTEND:20260521T200000Z
CLASS:PUBLIC
CREATED:20260325T125015
DESCRIPTION:i:Lead 2 builds on the foundation of i:Lead 1 to help you grow 
 from leading yourself to confidently leading others. This next step equips
  you with practical insights and skills to influence\, empower\, and bring
  out the best in those around you.
LAST-MODIFIED:20260325T125015
LOCATION:C7 Church\, 100 High Craighall Road\, G4 9UD
SUMMARY:iLead 2 Course
URL;VALUE=URI:https://www.c7church.com/events/ilead-2-course--359/2026-05-2
 1
END:VEVENT
END:VCALENDAR
