BEGIN:VCALENDAR
VERSION:2.0
PRODID:icalendar-ruby
CALSCALE:GREGORIAN
METHOD:PUBLISH
BEGIN:VEVENT
DTSTAMP:20260422T183228Z
UID:364-361033@c7church.com
DTSTART:20260528T180000Z
DTEND:20260528T193000Z
CLASS:PUBLIC
CREATED:20260325T131303
DESCRIPTION:Move from understanding the faith to experiencing it daily thro
 ugh the practical rhythms of personal devotion. This two-week course equip
 s you with the tools to build a consistent life of prayer and Bible readin
 g\, helping you cultivate a vibrant\, personal connection with God that su
 stains you every day.
LAST-MODIFIED:20260325T131303
LOCATION:C7 Church\, 100 High Craighall Road\, G4 9UD
SUMMARY:Christianity 102
URL;VALUE=URI:https://www.c7church.com/events/christianity-102--364/2026-05
 -28
END:VEVENT
END:VCALENDAR
