BEGIN:VCALENDAR
VERSION:2.0
PRODID:icalendar-ruby
CALSCALE:GREGORIAN
METHOD:PUBLISH
BEGIN:VEVENT
DTSTAMP:20260422T181111Z
UID:358-361023@c7church.com
DTSTART:20260528T180000Z
DTEND:20260528T193000Z
CLASS:PUBLIC
CREATED:20260325T124918
DESCRIPTION:Start your journey with clarity by exploring the foundational e
 ssentials of the Christian faith. Over two weeks\, we unpack the gospel of
  grace and the person of Jesus\, providing a dedicated space to ask questi
 ons\, find answers\, and build a solid starting point for your walk with G
 od.
LAST-MODIFIED:20260325T124918
LOCATION:C7 Church\, 100 High Craighall Road\, G4 9UD
SUMMARY:Christianity 101
URL;VALUE=URI:https://www.c7church.com/events/christianity-101--358/2026-05
 -28
END:VEVENT
END:VCALENDAR
